BEGIN:VCALENDAR
VERSION:2.0
PRODID:icalendar-ruby
CALSCALE:GREGORIAN
METHOD:PUBLISH
BEGIN:VEVENT
DTSTAMP:20260419T140736Z
UID:10-266624@southgateumc.org
DTSTART:20261018T154500Z
DTEND:20261018T164500Z
CLASS:PUBLIC
CREATED:20260419T082840
DESCRIPTION:
LAST-MODIFIED:20260419T082840
LOCATION:
SUMMARY:Sunday School for All Ages
URL;VALUE=URI:https://southgateumc.org/events/sunday-school-for-all-ages/20
 26-10-18
ATTACH;FILENAME=VBS-Closing-Edit.jpg;FMTTYPE=image/jpeg:https://dq5pwpg1q8r
 u0.cloudfront.net/2025/10/09/15/23/44/45af3989-e691-42ae-bca5-3c217f85db50
 /VBS-Closing-Edit.jpg
END:VEVENT
END:VCALENDAR
